BEGIN:VCALENDAR
VERSION:2.0
PRODID:-// - ECPv6.15.20//NONSGML v1.0//EN
CALSCALE:GREGORIAN
METHOD:PUBLISH
X-ORIGINAL-URL:https://trustjarell.com
X-WR-CALDESC:Events for 
REFRESH-INTERVAL;VALUE=DURATION:PT1H
X-Robots-Tag:noindex
X-PUBLISHED-TTL:PT1H
BEGIN:VTIMEZONE
TZID:UTC
BEGIN:STANDARD
TZOFFSETFROM:+0000
TZOFFSETTO:+0000
TZNAME:UTC
DTSTART:20160101T000000
END:STANDARD
END:VTIMEZONE
BEGIN:VTIMEZONE
TZID:UTC
BEGIN:STANDARD
TZOFFSETFROM:+0000
TZOFFSETTO:+0000
TZNAME:UTC
DTSTART:20160101T000000
END:STANDARD
END:VTIMEZONE
BEGIN:VEVENT
DTSTART;TZID=UTC:20180103T190000
DTEND;TZID=UTC:20180103T213000
DTSTAMP:20260423T174953
CREATED:20180101T200905Z
LAST-MODIFIED:20180101T200905Z
UID:1088-1515006000-1515015000@trustjarell.com
SUMMARY:CLOSED
DESCRIPTION:
URL:https://trustjarell.com/event/closed-2/
END:VEVENT
BEGIN:VEVENT
DTSTART;TZID=UTC:20180102T180000
DTEND;TZID=UTC:20180102T193000
DTSTAMP:20260423T174953
CREATED:20180101T200806Z
LAST-MODIFIED:20180101T200806Z
UID:1086-1514916000-1514921400@trustjarell.com
SUMMARY:CLOSED
DESCRIPTION:
URL:https://trustjarell.com/event/closed/
END:VEVENT
BEGIN:VEVENT
DTSTART;VALUE=DATE:20171227
DTEND;VALUE=DATE:20180101
DTSTAMP:20260423T174953
CREATED:20171212T011123Z
LAST-MODIFIED:20171224T233645Z
UID:1050-1514332800-1514764799@trustjarell.com
SUMMARY:2018 Is My Year
DESCRIPTION:Hello everyone. I have a special holiday treat for you all. I am offering a 15 minute session with me a.k.a Life Coach Jarell to help you get a better understanding of your New Year’s Resolution(s). So many people plan to accomplish weight loss\, healthy eating habits\, breaking of bad and unhealthy relationships\, but after the first month\, the ball drops. Why is that? What changed? What happened to your will power? What persuaded you to turn back to your old ways? If you have been in this situation year after year\, please jump on this special session for only $7. All you’ll need is your resolution\, pen and paper\, and an open mind and 15 mins of free time! I have an open availability so book your session according to the dates available.  Fill out the contact form on my home page and make all payments to paypal.me/TrustJarell or my cash app $TrustJarell. Happy Holidays!
URL:https://trustjarell.com/event/2018-is-my-year/
LOCATION:zoom conference call link
END:VEVENT
BEGIN:VEVENT
DTSTART;TZID=UTC:20171214T200000
DTEND;TZID=UTC:20171214T213000
DTSTAMP:20260423T174953
CREATED:20171209T032409Z
LAST-MODIFIED:20171209T032507Z
UID:1039-1513281600-1513287000@trustjarell.com
SUMMARY:This May Not Be Working Pt1
DESCRIPTION:Have you found yourself in a relationship and you are not sure if it is meant to last? Are there signs that are leaving you with a feeling of regret? Do you feel like you are currently going through the motions and you are unsure of where your heart may be? If you answered yes to all of these questions\, this workshop is for you. This is a 2 part workshop that will help you unlock your true feelings about your current relationship with your partner as well as yourself. There is a $20 charge and this covers BOTH workshops\, your worksheets\, and your Q and A session with me as a Life Coach. There are only 10 spots available so GRAB for your spot NOW. please make payments to paypal.me/TrustJarell or $trustJarell(cashapp) Part 2 of the workshop will be What Do You Do After The Break Up! *please fill out the contact form on the home page so that I will have your email address to send you the worksheets. The zoom link will also be provided for this video workshop.
URL:https://trustjarell.com/event/this-may-not-be-working-pt1/
LOCATION:zoom conference call link
END:VEVENT
BEGIN:VEVENT
DTSTART;TZID=UTC:20171212T200000
DTEND;TZID=UTC:20171212T213000
DTSTAMP:20260423T174953
CREATED:20171207T222039Z
LAST-MODIFIED:20171209T032025Z
UID:1036-1513108800-1513114200@trustjarell.com
SUMMARY:This May Not Be Working Anymore Pt 1
DESCRIPTION:Have you found yourself in a relationship and you are not sure if it is meant to last? Are there signs that are leaving you with a feeling of regret? Do you feel like you are currently going through the motions and you are unsure of where your heart may be? If you answered yes to all of these questions\, this workshop is for you. This is a 2 part workshop that will help you unlock your true feelings about your current relationship with your partner as well as yourself. There is a $20 charge and this covers BOTH workshops\, your worksheets\, and your Q and A session with me as a Life Coach. There are only 10 spots available so GRAB for your spot NOW. please make payments to paypal.me/TrustJarell or $trustJarell(cashapp) Part 2 of the workshop will be What Do You Do After The Break Up! *please fill out the contact form on the home page so that I will have your email address to send you the worksheets. The zoom link will also be provided for this video workshop.
URL:https://trustjarell.com/event/this-may-not-be-working-anymore-pt-1/
END:VEVENT
BEGIN:VEVENT
DTSTART;TZID=UTC:20171129T200000
DTEND;TZID=UTC:20171129T213000
DTSTAMP:20260423T174953
CREATED:20171118T235756Z
LAST-MODIFIED:20171127T024854Z
UID:1012-1511985600-1511991000@trustjarell.com
SUMMARY:A Night Of Clarity and Peace
DESCRIPTION:Join me for a special night of discovering how clarity will bring you the peace that you truly deserve. Please bring an open mind and an open heart. This is a free workshop and there are only 8 spots available. To grab a seat\, please fill out the the contact form on the home page. All donations are accepted as well. Donations can be paid directly to paypal.me/TrustJarell. I look forward to seeing you there.
URL:https://trustjarell.com/event/a-night-of-clarity-and-peace/
CATEGORIES:Coaching
END:VEVENT
END:VCALENDAR